BEGIN:VCALENDAR
VERSION:2.0
PRODID:spatie/icalendar-generator
DESCRIPTION:Evenementen van Hague Road Runners
X-WR-CALDESC:Evenementen van Hague Road Runners
REFRESH-INTERVAL;VALUE=DURATION:PT1440M
X-PUBLISHED-TTL:PT1440M
BEGIN:VTIMEZONE
TZID:Europe/Amsterdam
BEGIN:DAYLIGHT
DTSTART:20260329T020000Z
TZOFFSETFROM:+0100
TZOFFSETTO:+0200
END:DAYLIGHT
BEGIN:STANDARD
DTSTART:20261025T030000Z
TZOFFSETFROM:+0200
TZOFFSETTO:+0100
END:STANDARD
END:VTIMEZONE
BEGIN:VTIMEZONE
TZID:UTC
BEGIN:STANDARD
DTSTART:20250726T162019Z
TZOFFSETFROM:+0000
TZOFFSETTO:+0000
END:STANDARD
END:VTIMEZONE
BEGIN:VEVENT
UID:111-85
DTSTAMP:20260422T162019Z
SUMMARY:Clubwedstrijd
LOCATION:Clubgebouw Groenendaal 11  Wassenaar  2244 BK
ORGANIZER;CN=webmaster:MAILTO:peterwisse@casema.nl
DTSTART;TZID=Europe/Amsterdam:20260909T191500
DTEND;TZID=Europe/Amsterdam:20260909T200000
X-ALT-DESC;FMTTYPE=TEXT/HTML:
CATEGORIES:Bestuur
URL;VALUE=URI:https://hagueroadrunners.nl/mc-events/clubwedstrijd-4/
METHOD:PUBLISH
END:VEVENT
END:VCALENDAR